BEGIN:VCALENDAR
VERSION:2.0
PRODID:-//Langley Methodist Church - ECPv6.15.17.1//NONSGML v1.0//EN
CALSCALE:GREGORIAN
METHOD:PUBLISH
X-ORIGINAL-URL:http://langleymethodist.co.uk
X-WR-CALDESC:Events for Langley Methodist Church
REFRESH-INTERVAL;VALUE=DURATION:PT1H
X-Robots-Tag:noindex
X-PUBLISHED-TTL:PT1H
BEGIN:VTIMEZONE
TZID:Europe/London
BEGIN:DAYLIGHT
TZOFFSETFROM:+0000
TZOFFSETTO:+0100
TZNAME:BST
DTSTART:20250330T010000
END:DAYLIGHT
BEGIN:STANDARD
TZOFFSETFROM:+0100
TZOFFSETTO:+0000
TZNAME:GMT
DTSTART:20251026T010000
END:STANDARD
BEGIN:DAYLIGHT
TZOFFSETFROM:+0000
TZOFFSETTO:+0100
TZNAME:BST
DTSTART:20260329T010000
END:DAYLIGHT
BEGIN:STANDARD
TZOFFSETFROM:+0100
TZOFFSETTO:+0000
TZNAME:GMT
DTSTART:20261025T010000
END:STANDARD
BEGIN:DAYLIGHT
TZOFFSETFROM:+0000
TZOFFSETTO:+0100
TZNAME:BST
DTSTART:20270328T010000
END:DAYLIGHT
BEGIN:STANDARD
TZOFFSETFROM:+0100
TZOFFSETTO:+0000
TZNAME:GMT
DTSTART:20271031T010000
END:STANDARD
END:VTIMEZONE
BEGIN:VEVENT
DTSTART;TZID=Europe/London:20260503T103000
DTEND;TZID=Europe/London:20260503T120000
DTSTAMP:20260419T213257
CREATED:20260212T194257Z
LAST-MODIFIED:20260212T194257Z
UID:3644-1777804200-1777809600@langleymethodist.co.uk
SUMMARY:Morning Worship at Langley
DESCRIPTION:Davies
URL:http://langleymethodist.co.uk/event/morning-worship-at-langley-14
LOCATION:Langley\, Langley Methodist Church\, Macclesfield\, SK110BU\, United Kingdom
END:VEVENT
BEGIN:VEVENT
DTSTART;TZID=Europe/London:20260510T103000
DTEND;TZID=Europe/London:20260510T120000
DTSTAMP:20260419T213257
CREATED:20260212T194422Z
LAST-MODIFIED:20260212T194422Z
UID:3646-1778409000-1778414400@langleymethodist.co.uk
SUMMARY:Morning Worship
DESCRIPTION:CIRCUIT SERVICE
URL:http://langleymethodist.co.uk/event/morning-worship-3
END:VEVENT
BEGIN:VEVENT
DTSTART;TZID=Europe/London:20260515T100000
DTEND;TZID=Europe/London:20260515T190000
DTSTAMP:20260419T213257
CREATED:20260310T102150Z
LAST-MODIFIED:20260310T102150Z
UID:3665-1778839200-1778871600@langleymethodist.co.uk
SUMMARY:200th Anniversary
DESCRIPTION:
URL:http://langleymethodist.co.uk/event/200th-anniversary
LOCATION:Langley\, Langley Methodist Church\, Macclesfield\, SK110BU\, United Kingdom
END:VEVENT
BEGIN:VEVENT
DTSTART;TZID=Europe/London:20260516T100000
DTEND;TZID=Europe/London:20260516T190000
DTSTAMP:20260419T213257
CREATED:20260310T102249Z
LAST-MODIFIED:20260310T102249Z
UID:3668-1778925600-1778958000@langleymethodist.co.uk
SUMMARY:200th Anniversary
DESCRIPTION:
URL:http://langleymethodist.co.uk/event/200th-anniversary-2
LOCATION:Langley\, Langley Methodist Church\, Macclesfield\, SK110BU\, United Kingdom
END:VEVENT
BEGIN:VEVENT
DTSTART;TZID=Europe/London:20260517T100000
DTEND;TZID=Europe/London:20260517T190000
DTSTAMP:20260419T213257
CREATED:20260310T102330Z
LAST-MODIFIED:20260310T102330Z
UID:3670-1779012000-1779044400@langleymethodist.co.uk
SUMMARY:200th Anniversary
DESCRIPTION:
URL:http://langleymethodist.co.uk/event/200th-anniversary-3
LOCATION:Langley\, Langley Methodist Church\, Macclesfield\, SK110BU\, United Kingdom
END:VEVENT
BEGIN:VEVENT
DTSTART;TZID=Europe/London:20260517T103000
DTEND;TZID=Europe/London:20260517T120000
DTSTAMP:20260419T213257
CREATED:20260212T194629Z
LAST-MODIFIED:20260212T194629Z
UID:3649-1779013800-1779019200@langleymethodist.co.uk
SUMMARY:Morning Worship at Langley
DESCRIPTION:Foster \nCHURCH ANNIVERSARY
URL:http://langleymethodist.co.uk/event/morning-worship-at-langley-15
LOCATION:Langley\, Langley Methodist Church\, Macclesfield\, SK110BU\, United Kingdom
END:VEVENT
BEGIN:VEVENT
DTSTART;TZID=Europe/London:20260524T103000
DTEND;TZID=Europe/London:20260524T120000
DTSTAMP:20260419T213257
CREATED:20260212T194728Z
LAST-MODIFIED:20260212T194728Z
UID:3651-1779618600-1779624000@langleymethodist.co.uk
SUMMARY:Morning Worship at Langley
DESCRIPTION:Rev. Deborah Lucas \nHOLY COMMUNION \n 
URL:http://langleymethodist.co.uk/event/morning-worship-at-langley-16
LOCATION:Langley\, Langley Methodist Church\, Macclesfield\, SK110BU\, United Kingdom
END:VEVENT
BEGIN:VEVENT
DTSTART;TZID=Europe/London:20260531T103000
DTEND;TZID=Europe/London:20260531T120000
DTSTAMP:20260419T213257
CREATED:20260212T194830Z
LAST-MODIFIED:20260212T194830Z
UID:3653-1780223400-1780228800@langleymethodist.co.uk
SUMMARY:Morning Worship at Langley
DESCRIPTION:Mr Michael Wakelin
URL:http://langleymethodist.co.uk/event/morning-worship-at-langley-17
LOCATION:Langley\, Langley Methodist Church\, Macclesfield\, SK110BU\, United Kingdom
END:VEVENT
END:VCALENDAR